BEGIN:VCALENDAR
VERSION:2.0
PRODID:-//Easton Economic Development Corporation - ECPv6.15.18//NONSGML v1.0//EN
CALSCALE:GREGORIAN
METHOD:PUBLISH
X-WR-CALNAME:Easton Economic Development Corporation
X-ORIGINAL-URL:https://eastonedc.com
X-WR-CALDESC:Events for Easton Economic Development Corporation
REFRESH-INTERVAL;VALUE=DURATION:PT1H
X-Robots-Tag:noindex
X-PUBLISHED-TTL:PT1H
BEGIN:VTIMEZONE
TZID:America/New_York
BEGIN:DAYLIGHT
TZOFFSETFROM:-0500
TZOFFSETTO:-0400
TZNAME:EDT
DTSTART:20210314T070000
END:DAYLIGHT
BEGIN:STANDARD
TZOFFSETFROM:-0400
TZOFFSETTO:-0500
TZNAME:EST
DTSTART:20211107T060000
END:STANDARD
BEGIN:DAYLIGHT
TZOFFSETFROM:-0500
TZOFFSETTO:-0400
TZNAME:EDT
DTSTART:20220313T070000
END:DAYLIGHT
BEGIN:STANDARD
TZOFFSETFROM:-0400
TZOFFSETTO:-0500
TZNAME:EST
DTSTART:20221106T060000
END:STANDARD
BEGIN:DAYLIGHT
TZOFFSETFROM:-0500
TZOFFSETTO:-0400
TZNAME:EDT
DTSTART:20230312T070000
END:DAYLIGHT
BEGIN:STANDARD
TZOFFSETFROM:-0400
TZOFFSETTO:-0500
TZNAME:EST
DTSTART:20231105T060000
END:STANDARD
END:VTIMEZONE
BEGIN:VEVENT
DTSTART;TZID=America/New_York:20220624T180000
DTEND;TZID=America/New_York:20220704T220000
DTSTAMP:20260423T232425
CREATED:20220624T181626Z
LAST-MODIFIED:20220624T181626Z
UID:4901-1656093600-1656972000@eastonedc.com
SUMMARY:Easton Carnival - Presented by The Avalon Foundation
DESCRIPTION:Each year the Avalon Foundation brings Shaw’s Amusements Carnival to the Town of Easton as part of its July 4th celebration! The celebration offers nine days to enjoy the carnival and culminates on the 4th of July with food\, free fireworks and live music. The carnival is open from 6 to 10 p.m. daily and  from 4 to 11 p.m. Thursday\, July 4.  \n\nThe carnival is beside Waterside Village Shopping Center near Target\, between the Easton Parkway and St. Michaels Road. \n$5 off wristband coupons available Avalon Theatre Lobby. Wristbands are available every night\, with the exception of July 4th!
URL:https://eastonedc.com/event/easton-carnival-presented-by-the-avalon-foundation/
LOCATION:Waterside Village Shopping Center\, MD\, 21601\, United States
ATTACH;FMTTYPE=image/jpeg:https://eastonedc.com/wp-content/uploads/2022/06/Carnival-1145x936.jpg
ORGANIZER;CN="Avalon Foundation":MAILTO:boxoffice@avalonfoundation.org
END:VEVENT
BEGIN:VEVENT
DTSTART;TZID=America/New_York:20220701T170000
DTEND;TZID=America/New_York:20220701T200000
DTSTAMP:20260423T232425
CREATED:20220425T162904Z
LAST-MODIFIED:20220425T162904Z
UID:4602-1656694800-1656705600@eastonedc.com
SUMMARY:Easton Night Out
DESCRIPTION:Join us for a fun night out in Easton! Every first Friday from 5 pm to 8 pm the streets will be filled with music and excitement. Explore downtown Easton’s phenomenal collection of shops\, restaurants\, and art galleries on the best night of any week.
URL:https://eastonedc.com/event/easton-night-out-3/
CATEGORIES:Downtown Event
ATTACH;FMTTYPE=image/png:https://eastonedc.com/wp-content/uploads/2022/04/ENO-Logo-1.png
END:VEVENT
BEGIN:VEVENT
DTSTART;TZID=America/New_York:20220709T170000
DTEND;TZID=America/New_York:20220709T200000
DTSTAMP:20260423T232425
CREATED:20220627T203744Z
LAST-MODIFIED:20220627T203744Z
UID:4917-1657386000-1657396800@eastonedc.com
SUMMARY:Bushels & Brews
DESCRIPTION:The Hummingbird Inn is once again hosting the Bushels & Brews in downtown Easton! \nA feast for all your senses\, this all you can eat event has scrumptious crabs sourced by LNT Seafood in Preston\, MD\, and steamed at the inn. Traditional Maryland crab feast sides of steamed red potatoes and corn-on-the-cob are sure to please. \nYou’ll need something to quench your thirst (hello Old Bay!)\, and Hummingbird Inn never disappoints. In addition to complimentary bottled water\, there is also a cash bar serving soft drinks\, beer\, red & white sangria\, and the summertime favorite\, orange crushes. \nThe Hummingbird Inn summer crab feast series is always held under a tent on their lovely grounds\, with local musicians filling the air with the sounds of summer. \nThis All-You-Can-Eat Crab Feast is $70 for adults & $50 for children 12 and under (Includes 1 Free Drink). \n\nJuly 9th will feature live Music by Jayme D!
URL:https://eastonedc.com/event/bushels-brews/
LOCATION:Hummingbird Inn\, 14 N Aurora Street\, Easton\, MD\, 21601\, United States
ATTACH;FMTTYPE=image/png:https://eastonedc.com/wp-content/uploads/2022/06/Bushels-and-Brews-thumbnail.png
END:VEVENT
BEGIN:VEVENT
DTSTART;TZID=America/New_York:20220709T190000
DTEND;TZID=America/New_York:20220709T210000
DTSTAMP:20260423T232425
CREATED:20220707T210916Z
LAST-MODIFIED:20220707T210916Z
UID:4987-1657393200-1657400400@eastonedc.com
SUMMARY:Outdoor Summer Concert Series: U.S. Navy Band Commodores
DESCRIPTION:Jazz is truly America’s music and the Commodores\, the Navy’s premier jazz ensemble\, have been performing the very best of Big Band jazz for the Navy and the nation for 50 years. Formed in 1969\, this 18-member group continues the Big Band legacy with some of the finest musicians in the world\, held in high regard nationwide by concert patrons and critics alike. \n  \nYou can find the Commodores playing on Harrison Street between Dover and Goldsborough Streets.
URL:https://eastonedc.com/event/outdoor-summer-concert-series-u-s-navy-band-commodores/
LOCATION:Harrison Street\, Easton\, MD\, 21601\, United States
ATTACH;FMTTYPE=image/jpeg:https://eastonedc.com/wp-content/uploads/2022/07/commadores-2500x1668.jpeg
ORGANIZER;CN="Avalon Foundation":MAILTO:boxoffice@avalonfoundation.org
END:VEVENT
BEGIN:VEVENT
DTSTART;TZID=America/New_York:20220715T130000
DTEND;TZID=America/New_York:20220715T140000
DTSTAMP:20260423T232425
CREATED:20220711T175819Z
LAST-MODIFIED:20220711T175819Z
UID:4991-1657890000-1657893600@eastonedc.com
SUMMARY:A Date With History Speaker Series
DESCRIPTION:Mitchell Northam will be speaking on his new book “High School Basketball on Maryland’s Eastern Shore: A Shore Hoops History”. From Kent County down to Pocomoke City\, the Eastern Shore of Maryland has a deep history of successful coaches\, talented players and championship-winning teams. Explore nearly a century’s worth of games and seasons as the region has fought for respect on the hardwood. Dive deep into teams like the 1952 tourist town boys from Ocean City and the great squads of Moton High School\, and players like Stephen Decatur’s Keve Aluma\, an All-ACC selection at Virginia Tech. Using extensive research and dozens of original interviews\, Shore native and sportswriter Mitchell Northam chronicles the Women’s Professional Basketball League days of Gail Tatterson Gladding\, the rise and fall of Carlton Dotson\, and the careers of basketball lifers like Butch Waller and Tia Jackson. \n  \nMitchell Northam grew up on the Eastern Shore in Federalsburg and graduated from Colonel Richardson High School\, Wor-Wic Community College\, and Salisbury University. His career in journalism began at the Delmarva Daily Times in Salisbury\, and he now works at WUNC — the NPR affiliate in Chapel Hill\, North Carolina. His work has also been featured at the Atlanta Journal-Constitution\, NCAA.com\, the Orlando Sentinel\, the Associated Press\, Sports Illustrated\, and Pittsburgh Sports Now. He is a member of the U.S. Basketball Writers Association and a voter in the AP Top 25 Poll for women’s college basketball. He lives in Durham\, North Carolina with his wife Rachel. \n  \nCall 410-822-0773 or email kaylaw@talbothistory.org for your reservation
URL:https://eastonedc.com/event/a-date-with-history-speaker-series/
LOCATION:Talbot Historical Society\, 25 S. Washington St.\, Easton\, MD\, 21601\, United States
ATTACH;FMTTYPE=image/jpeg:https://eastonedc.com/wp-content/uploads/2022/07/basketballs-678x1024.jpeg
END:VEVENT
BEGIN:VEVENT
DTSTART;TZID=America/New_York:20220715T170000
DTEND;TZID=America/New_York:20220715T200000
DTSTAMP:20260423T232425
CREATED:20220629T155333Z
LAST-MODIFIED:20220629T155333Z
UID:4941-1657904400-1657915200@eastonedc.com
SUMMARY:Plein Air Easton's Block Party\, Gallery Walk\, and Paint Out
DESCRIPTION:Join us for the kick off of the 18th Annual Plein Air Easton Competition and Arts Festival with a Block Party & Gallery Walk on July 15th. \n\nDowntown Easton shops will be open 5pm to 8pm with live music performances all around downtown. Need a little incentive to shop? For every $25 you spend\, you will be entered to win a variety of great prizes!  Must be present to win\, drawing will be at 8:15 in front of the Tidewater Inn.  \n\nStick around after the drawing for the Nocturne Paint Out on Harrison Street starting at 8:30.  
URL:https://eastonedc.com/event/plein-air-eastons-block-party-gallery-walk-and-paint-out/
ATTACH;FMTTYPE=image/png:https://eastonedc.com/wp-content/uploads/2022/06/PAE-Flyer-Gallery-Walk.png
ORGANIZER;CN="Avalon Foundation":MAILTO:boxoffice@avalonfoundation.org
END:VEVENT
BEGIN:VEVENT
DTSTART;TZID=America/New_York:20220716T110000
DTEND;TZID=America/New_York:20220716T150000
DTSTAMP:20260423T232425
CREATED:20220711T190600Z
LAST-MODIFIED:20220714T211309Z
UID:4994-1657969200-1657983600@eastonedc.com
SUMMARY:Historic Walking Tour
DESCRIPTION:Join Talbot Historical Society for an hour historic walking tours of beautiful downtown Easton! The first tour starts at 11am\nThe tour guide will take you to various buildings within the historic district of downtown and explain the importance of the buildings in Easton’s history. The second tour starts at 12pm (noon) \nThe tour guide\, Mike Olmert\, will take you to other historic buildings in downtown Easton and will explain the history of the architecture of those buildings.\nAll tours meet at 25 S. Washington Street and are free for all!\nThere are 10 spots available per tour. Please contact THS for reservations or if you have any questions: 410-822-0773 or email kaylaw@talbothistory.org
URL:https://eastonedc.com/event/historic-walking-tour/
LOCATION:Talbot Historical Society\, 25 S. Washington St.\, Easton\, MD\, 21601\, United States
ATTACH;FMTTYPE=image/jpeg:https://eastonedc.com/wp-content/uploads/2022/07/historical-2400x800.jpeg
END:VEVENT
BEGIN:VEVENT
DTSTART;TZID=America/New_York:20220717T120000
DTEND;TZID=America/New_York:20220724T120000
DTSTAMP:20260423T232425
CREATED:20220127T193323Z
LAST-MODIFIED:20220202T184211Z
UID:4134-1658059200-1658664000@eastonedc.com
SUMMARY:Plein Air Art Festival
DESCRIPTION:Plein Air Easton is the largest and most prestigious juried plein air painting competition in the United States. Celebrating its 18th year in 2022\, the competition is held in Easton\, Maryland each July. Plein air painters produce art from life (as opposed to in the studio). Artists from all over the United States and beyond apply to this competition beginning December 1st of the previous year.  Fifty-eight artists will be juried into the competition by a unique juror each year. Once selected\, competing artists will travel to Talbot County to paint throughout the week. Next July’s competition will take place July 17th through the 24th. Many of the world’s most accomplished artists have Easton at the top of their wish list of competitions and we will continue to set the bar for excellence in the coming year. \n  \nSome quick facts about Plein Air: \nArt sales for Plein Air Easton 2021 event topped $495\,000 with 400 paintings sold over the course of the week. \nThe usual sales pace for the Collectors’ Preview Party sees a painting sold every 45 seconds during a 90 minute period. \nPlein Air Easton’s Quick Draw is open to any artist (any age) with $10 and ambition. Nearly 200 artists paint for 2 hours in downtown Easton and the event culminates in an outdoor exhibit and sale along South Harrison Street. \nPlein Air Easton\, privately-owned galleries\, and arts organizations program demos\, workshops\, exhibits\, and lectures throughout the week. 
URL:https://eastonedc.com/event/plein-air-art-festival/
CATEGORIES:Downtown Event
ATTACH;FMTTYPE=image/png:https://eastonedc.com/wp-content/uploads/2022/01/2021-Webslides-10.png
END:VEVENT
BEGIN:VEVENT
DTSTART;TZID=America/New_York:20220729T190000
DTEND;TZID=America/New_York:20220729T210000
DTSTAMP:20260423T232425
CREATED:20220718T153901Z
LAST-MODIFIED:20220718T154004Z
UID:5009-1659121200-1659128400@eastonedc.com
SUMMARY:Lena Seikaly
DESCRIPTION:Jazz vocalist Lena Seikaly has been named by the Washington Post as “one of Washington’s preeminent jazz singers” and “brightest voices in jazz”. An alum of the Betty Carter Jazz Ahead and Jazz Aspen Snowmass programs\, Seikaly was also one of eleven semi-finalists for the prestigious 2015 Thelonious Monk Institute International Jazz Vocals Competition in L.A. \nCome experience for yourself why Lena Seikaly is considered one of the best jazz vocalists around. Cocktails & hors d’oeuvres served in the theatre!
URL:https://eastonedc.com/event/lena-seikaly/
LOCATION:Avalon Theatre\, 40 E Dover Street\, Easton\, MD\, 21601\, United States
ATTACH;FMTTYPE=image/jpeg:https://eastonedc.com/wp-content/uploads/2022/07/lena-1100x735.jpeg
ORGANIZER;CN="Avalon Foundation":MAILTO:boxoffice@avalonfoundation.org
END:VEVENT
BEGIN:VEVENT
DTSTART;TZID=America/New_York:20220730T190000
DTEND;TZID=America/New_York:20220730T210000
DTSTAMP:20260423T232425
CREATED:20220610T135137Z
LAST-MODIFIED:20220610T135137Z
UID:4858-1659207600-1659214800@eastonedc.com
SUMMARY:Jazz Alive 2022 Summer Concert Series – Vocalist Joanna Pascale
DESCRIPTION:With Easton’s historic Waterfowl Building again remade with concert staging and lighting and a crystal- clear audio system\, music lovers can enjoy some of the world’s finest jazz musicians in three shows as Jazz Alive renews it summer concert series! \n  \nThe second concert of the Jazz Alive Summer Concert Series takes place on July 30\, 2022 with Philadelphia-based vocalist Joanna Pascale\, who insists that she cannot perform a song unless she can connect personally with its lyrics. But once she’s found that connection\, there’s no one who can better convey the emotion of those words more directly and intimately than Pascale. A singer of sophisticated taste\, profound expressiveness\, and raw emotion\, Pascale is also a gifted educator who is a member of the vocal faculty at both Temple University and the University of Pennsylvania. \n  \nThe Waterfowl Building is at 40 South Harrison Street in Easton\, Maryland.  Tickets are $48 and available at jazz-alive.org or at the door the day of the event. Students attend free with a Student ID. A cash bar will be available. Proceeds from ticket and concession sales support Jazz Alive’s mission of providing educational support in developing future artists and preserving this great art form through school and community programs.
URL:https://eastonedc.com/event/jazz-alive-2022-summer-concert-series-vocalist-joanna-pascale/
LOCATION:Waterfowl Festival Building\, 40 S Harrison Street\, Easton\, 21601\, United States
ATTACH;FMTTYPE=image/jpeg:https://eastonedc.com/wp-content/uploads/2022/06/joannapascale800x480b-800x480.jpeg
END:VEVENT
BEGIN:VEVENT
DTSTART;TZID=America/New_York:20220730T190000
DTEND;TZID=America/New_York:20220730T210000
DTSTAMP:20260423T232425
CREATED:20220718T154932Z
LAST-MODIFIED:20220718T154932Z
UID:5013-1659207600-1659214800@eastonedc.com
SUMMARY:Outdoor Summer Concert Series: Patrick Alban & Noche Latina
DESCRIPTION:Patrick Alban and his band perform world music at its best! \n  \nTheir spirited sound is a zesty combination of Latin and acoustic rock with a touch of salsa and a South Beach feel. Alban’s repertoire includes Brazilian sambas\, Cuban music\, tangos\, boleros\, salsa\, blues\, Gypsy Kings\, and The Buena Vista Social Club\, just to name a few. \n  \nYou can find Patrick Alban & Noche Latina performing on Harrison Street between Dover and Goldsborough Streets. 
URL:https://eastonedc.com/event/outdoor-summer-concert-series-patrick-alban-noche-latina/
LOCATION:Harrison Street\, Easton\, MD\, 21601\, United States
ATTACH;FMTTYPE=image/png:https://eastonedc.com/wp-content/uploads/2022/07/latina.png
ORGANIZER;CN="Avalon Foundation":MAILTO:boxoffice@avalonfoundation.org
END:VEVENT
END:VCALENDAR