BEGIN:VCALENDAR
VERSION:2.0
PRODID:-//Easton Economic Development Corporation - ECPv6.15.18//NONSGML v1.0//EN
CALSCALE:GREGORIAN
METHOD:PUBLISH
X-ORIGINAL-URL:https://eastonedc.com
X-WR-CALDESC:Events for Easton Economic Development Corporation
REFRESH-INTERVAL;VALUE=DURATION:PT1H
X-Robots-Tag:noindex
X-PUBLISHED-TTL:PT1H
BEGIN:VTIMEZONE
TZID:UTC
BEGIN:STANDARD
TZOFFSETFROM:+0000
TZOFFSETTO:+0000
TZNAME:UTC
DTSTART:20200101T000000
END:STANDARD
END:VTIMEZONE
BEGIN:VTIMEZONE
TZID:America/New_York
BEGIN:DAYLIGHT
TZOFFSETFROM:-0500
TZOFFSETTO:-0400
TZNAME:EDT
DTSTART:20200308T070000
END:DAYLIGHT
BEGIN:STANDARD
TZOFFSETFROM:-0400
TZOFFSETTO:-0500
TZNAME:EST
DTSTART:20201101T060000
END:STANDARD
BEGIN:DAYLIGHT
TZOFFSETFROM:-0500
TZOFFSETTO:-0400
TZNAME:EDT
DTSTART:20210314T070000
END:DAYLIGHT
BEGIN:STANDARD
TZOFFSETFROM:-0400
TZOFFSETTO:-0500
TZNAME:EST
DTSTART:20211107T060000
END:STANDARD
BEGIN:DAYLIGHT
TZOFFSETFROM:-0500
TZOFFSETTO:-0400
TZNAME:EDT
DTSTART:20220313T070000
END:DAYLIGHT
BEGIN:STANDARD
TZOFFSETFROM:-0400
TZOFFSETTO:-0500
TZNAME:EST
DTSTART:20221106T060000
END:STANDARD
BEGIN:DAYLIGHT
TZOFFSETFROM:-0500
TZOFFSETTO:-0400
TZNAME:EDT
DTSTART:20230312T070000
END:DAYLIGHT
BEGIN:STANDARD
TZOFFSETFROM:-0400
TZOFFSETTO:-0500
TZNAME:EST
DTSTART:20231105T060000
END:STANDARD
END:VTIMEZONE
BEGIN:VEVENT
DTSTART;TZID=UTC:20211203T170000
DTEND;TZID=UTC:20211203T210000
DTSTAMP:20260425T063831
CREATED:20211122T203124Z
LAST-MODIFIED:20211122T203124Z
UID:3915-1638550800-1638565200@eastonedc.com
SUMMARY:Holiday Village with Frosty the Snowman
DESCRIPTION:For All Seasons invites you to Frosty’s Holiday Village! The event will take place on December 3rd and will be packed with many activities including professional photos with Frosty\, holiday crafts\, and a screening of “Frosty’s Winter Wonderland”. This event is free and open to all and no advance registration is required. However\, those planning to take their professional photo with Frosty the Snowman can pre-register online at www.forallseasonsFROSTY.org.
URL:https://eastonedc.com/event/holiday-village-with-frosty-the-snowman/
LOCATION:Talbot County Courthouse lawn\, 11 North Washington Street\, Easton\, MD\, 21601\, United States
ATTACH;FMTTYPE=image/png:https://eastonedc.com/wp-content/uploads/2021/11/JOIN-US-FOR-A-Family-FUn-EVENT-no-bleed-9-x-6-in-8.54-x-3.75-in.png
END:VEVENT
BEGIN:VEVENT
DTSTART;TZID=UTC:20211204T180000
DTEND;TZID=UTC:20211204T200000
DTSTAMP:20260425T063831
CREATED:20211005T200701Z
LAST-MODIFIED:20211005T200806Z
UID:3728-1638640800-1638648000@eastonedc.com
SUMMARY:Holiday Parade
DESCRIPTION:Hope you’re ready for some holiday cheer! Easton’s holiday parade will take place December 4th\, 2021. The event will kick off with a tree Lighting at 6 PM followed by a parade that will begin at 6:30PM. With a myriad of vehicles\, novelties\, and floats this parade is sure to showcase the very best of Easton during the Christmas season. Join in the festivities! \n\n\n\n\n\n\n\n\n\n\n\n\n  \n\n\n\n\n\n\nWould you like to register an entry for the parade? Parade registration is now open! Registration is limited to 65 entries. For more details on registering an entry click here.
URL:https://eastonedc.com/event/holiday-parade/
ATTACH;FMTTYPE=image/jpeg:https://eastonedc.com/wp-content/uploads/2021/10/Derrick-Digger-2.jpg
END:VEVENT
BEGIN:VEVENT
DTSTART;TZID=America/New_York:20211210T160000
DTEND;TZID=America/New_York:20211210T200000
DTSTAMP:20260425T063831
CREATED:20211206T183511Z
LAST-MODIFIED:20211206T183511Z
UID:3936-1639152000-1639166400@eastonedc.com
SUMMARY:Sip & Shop in Downtown Easton
DESCRIPTION:Enjoy a night out on the town! Come visit your favorite shops\, restaurants\, and galleries for your chance to be entered for raffle prizes. This is the perfect way to support local businesses that do so much for our community and make it the most charming small town in Maryland. Enjoy refreshments\, enter to win prizes\, and finish your holiday shopping all in one evening!\nOver 25 locations are participating and the list is growing… Come support the independent merchants of downtown Easton!\n\nThe event will be on December 4th from 4PM to 8PM. Don’t miss out on the fun!
URL:https://eastonedc.com/event/sip-shop-in-downtown-easton/
LOCATION:Easton\, MD\, 21601\, United States
ATTACH;FMTTYPE=image/jpeg:https://eastonedc.com/wp-content/uploads/2021/12/SSSocialmedia.jpg
END:VEVENT
BEGIN:VEVENT
DTSTART;TZID=UTC:20211231T190000
DTEND;TZID=UTC:20211231T210000
DTSTAMP:20260425T063831
CREATED:20211116T212000Z
LAST-MODIFIED:20211116T212000Z
UID:3883-1640977200-1640984400@eastonedc.com
SUMMARY:First Night Talbot
DESCRIPTION:A family friendly\, alcohol and drug free New Year’s Eve Celebration of the Arts\, and the only First Night celebration in the State of Maryland! This event will be celebrated virtually. Tune in and watch the new year roll in!
URL:https://eastonedc.com/event/first-night-talbot/
ATTACH;FMTTYPE=image/jpeg:https://eastonedc.com/wp-content/uploads/2021/11/firstnight9x11sign_d210241024_1-e1637079587930.jpg
END:VEVENT
BEGIN:VEVENT
DTSTART;TZID=America/New_York:20211231T210000
DTEND;TZID=America/New_York:20220101T000000
DTSTAMP:20260425T063831
CREATED:20211217T193905Z
LAST-MODIFIED:20211220T193619Z
UID:4016-1640984400-1640995200@eastonedc.com
SUMMARY:Cheers to the Chesapeake
DESCRIPTION:Easton Downtown and Talbot County Tourism will host the Cheers to the Chesapeake crab drop celebration on New Years’ Eve night in front of the Tidewater Inn! The event will include dropping the 6-foot-wide crab from 25 feet in the air to ring in the New Year along with musical performances by the New Legacy Blues Band. The event will happen in conjunction with First Night Talbot\, an annual event that will be held virtually this year at 7PM. Join us and say goodbye to 2021 with style!
URL:https://eastonedc.com/event/cheers-to-the-chesapeake/
LOCATION:Tidewater Inn\, 101 E Dover Street\, Easton\, MD\, 21601\, United States
ATTACH;FMTTYPE=image/png:https://eastonedc.com/wp-content/uploads/2021/12/Cheers-to-the-Chesapeake-PR-1.png
END:VEVENT
END:VCALENDAR