BEGIN:VCALENDAR
VERSION:2.0
PRODID:-//Easton Economic Development Corporation - ECPv6.15.18//NONSGML v1.0//EN
CALSCALE:GREGORIAN
METHOD:PUBLISH
X-ORIGINAL-URL:https://eastonedc.com
X-WR-CALDESC:Events for Easton Economic Development Corporation
REFRESH-INTERVAL;VALUE=DURATION:PT1H
X-Robots-Tag:noindex
X-PUBLISHED-TTL:PT1H
BEGIN:VTIMEZONE
TZID:UTC
BEGIN:STANDARD
TZOFFSETFROM:+0000
TZOFFSETTO:+0000
TZNAME:UTC
DTSTART:20200101T000000
END:STANDARD
END:VTIMEZONE
BEGIN:VEVENT
DTSTART;TZID=UTC:20210215T100000
DTEND;TZID=UTC:20210215T230000
DTSTAMP:20260420T152815
CREATED:20210128T222556Z
LAST-MODIFIED:20210128T222648Z
UID:2493-1613383200-1613430000@eastonedc.com
SUMMARY:Looking for a new career or have employees who need new skills?
DESCRIPTION:January 28 at 11:30 a.m.– Chesapeake College\, Skilled Trades program explained\, plus funding available that may pay for the courses.  Register free here – Here
URL:https://eastonedc.com/event/looking-for-a-new-career-or-have-employees-who-need-new-skills/
CATEGORIES:Webinars
ATTACH;FMTTYPE=image/jpeg:https://eastonedc.com/wp-content/uploads/2021/01/download.jpeg
END:VEVENT
END:VCALENDAR