BEGIN:VCALENDAR
VERSION:2.0
PRODID:-//Easton Economic Development Corporation - ECPv6.15.18//NONSGML v1.0//EN
CALSCALE:GREGORIAN
METHOD:PUBLISH
X-WR-CALNAME:Easton Economic Development Corporation
X-ORIGINAL-URL:https://eastonedc.com
X-WR-CALDESC:Events for Easton Economic Development Corporation
REFRESH-INTERVAL;VALUE=DURATION:PT1H
X-Robots-Tag:noindex
X-PUBLISHED-TTL:PT1H
BEGIN:VTIMEZONE
TZID:America/New_York
BEGIN:DAYLIGHT
TZOFFSETFROM:-0500
TZOFFSETTO:-0400
TZNAME:EDT
DTSTART:20210314T070000
END:DAYLIGHT
BEGIN:STANDARD
TZOFFSETFROM:-0400
TZOFFSETTO:-0500
TZNAME:EST
DTSTART:20211107T060000
END:STANDARD
BEGIN:DAYLIGHT
TZOFFSETFROM:-0500
TZOFFSETTO:-0400
TZNAME:EDT
DTSTART:20220313T070000
END:DAYLIGHT
BEGIN:STANDARD
TZOFFSETFROM:-0400
TZOFFSETTO:-0500
TZNAME:EST
DTSTART:20221106T060000
END:STANDARD
BEGIN:DAYLIGHT
TZOFFSETFROM:-0500
TZOFFSETTO:-0400
TZNAME:EDT
DTSTART:20230312T070000
END:DAYLIGHT
BEGIN:STANDARD
TZOFFSETFROM:-0400
TZOFFSETTO:-0500
TZNAME:EST
DTSTART:20231105T060000
END:STANDARD
END:VTIMEZONE
BEGIN:VEVENT
DTSTART;TZID=America/New_York:20220610T193000
DTEND;TZID=America/New_York:20220618T210000
DTSTAMP:20260424T091447
CREATED:20220502T135833Z
LAST-MODIFIED:20220601T140440Z
UID:4691-1654889400-1655586000@eastonedc.com
SUMMARY:The 2022 Chesapeake Chamber Music Festival
DESCRIPTION:Please join Chesapeake Music June 10-18 at the Ebenezer Theater in historic Easton for 6 compelling concerts by your favorite Festival musicians!
URL:https://eastonedc.com/event/the-2022-chesapeake-chamber-music-festival/
LOCATION:Ebenezer Theater\, 17 South Washington Street\, Easton\, MD\, 21601\, United States
ATTACH;FMTTYPE=image/jpeg:https://eastonedc.com/wp-content/uploads/2022/05/unnamed-2-1128x482.jpg
END:VEVENT
BEGIN:VEVENT
DTSTART;TZID=America/New_York:20220617T170000
DTEND;TZID=America/New_York:20220617T210000
DTSTAMP:20260424T091447
CREATED:20220502T134927Z
LAST-MODIFIED:20220613T203631Z
UID:4689-1655485200-1655499600@eastonedc.com
SUMMARY:Ladies Night / Pride Night
DESCRIPTION:In honor of Pride Month and the Delmarva Pride Festival we are extending our 30% off offer to anyone who is part of the LGBTQ+ community as well as anyone who comes in sporting their Pride Month colors! Offer is only valid on ladies night- 6/17/22! \n30% off any ceramic piece that you paint that evening\, excluding Christmas trees or other items that come with an electric light kit. (For ladies 18+)
URL:https://eastonedc.com/event/ladies-night-2/
LOCATION:Kiln Born Creations\, 1 S Washington St\, Easton\, MD\, 21601\, United States
ATTACH;FMTTYPE=image/jpeg:https://eastonedc.com/wp-content/uploads/2022/05/kilnbpride-640x354.jpeg
END:VEVENT
BEGIN:VEVENT
DTSTART;TZID=America/New_York:20220617T190000
DTEND;TZID=America/New_York:20220617T230000
DTSTAMP:20260424T091447
CREATED:20220228T202428Z
LAST-MODIFIED:20220228T202428Z
UID:4320-1655492400-1655506800@eastonedc.com
SUMMARY:Delmarva Pride 2022
DESCRIPTION:The Delmarva Pride Festival will be Saturday\, June 18th 2022! Mark your calendar and come join us in Easton for fun events to promote LGBTQ Pride!
URL:https://eastonedc.com/event/delmarva-pride-2022/
ATTACH;FMTTYPE=image/jpeg:https://eastonedc.com/wp-content/uploads/2022/02/273455510_932076697465590_2276309369350604147_n-1545x2000.jpeg
END:VEVENT
END:VCALENDAR