BEGIN:VCALENDAR
VERSION:2.0
PRODID:-//Easton Economic Development Corporation - ECPv6.15.18//NONSGML v1.0//EN
CALSCALE:GREGORIAN
METHOD:PUBLISH
X-WR-CALNAME:Easton Economic Development Corporation
X-ORIGINAL-URL:https://eastonedc.com
X-WR-CALDESC:Events for Easton Economic Development Corporation
REFRESH-INTERVAL;VALUE=DURATION:PT1H
X-Robots-Tag:noindex
X-PUBLISHED-TTL:PT1H
BEGIN:VTIMEZONE
TZID:America/New_York
BEGIN:DAYLIGHT
TZOFFSETFROM:-0500
TZOFFSETTO:-0400
TZNAME:EDT
DTSTART:20210314T070000
END:DAYLIGHT
BEGIN:STANDARD
TZOFFSETFROM:-0400
TZOFFSETTO:-0500
TZNAME:EST
DTSTART:20211107T060000
END:STANDARD
BEGIN:DAYLIGHT
TZOFFSETFROM:-0500
TZOFFSETTO:-0400
TZNAME:EDT
DTSTART:20220313T070000
END:DAYLIGHT
BEGIN:STANDARD
TZOFFSETFROM:-0400
TZOFFSETTO:-0500
TZNAME:EST
DTSTART:20221106T060000
END:STANDARD
BEGIN:DAYLIGHT
TZOFFSETFROM:-0500
TZOFFSETTO:-0400
TZNAME:EDT
DTSTART:20230312T070000
END:DAYLIGHT
BEGIN:STANDARD
TZOFFSETFROM:-0400
TZOFFSETTO:-0500
TZNAME:EST
DTSTART:20231105T060000
END:STANDARD
END:VTIMEZONE
BEGIN:VEVENT
DTSTART;TZID=America/New_York:20220610T193000
DTEND;TZID=America/New_York:20220618T210000
DTSTAMP:20260424T112435
CREATED:20220502T135833Z
LAST-MODIFIED:20220601T140440Z
UID:4691-1654889400-1655586000@eastonedc.com
SUMMARY:The 2022 Chesapeake Chamber Music Festival
DESCRIPTION:Please join Chesapeake Music June 10-18 at the Ebenezer Theater in historic Easton for 6 compelling concerts by your favorite Festival musicians!
URL:https://eastonedc.com/event/the-2022-chesapeake-chamber-music-festival/
LOCATION:Ebenezer Theater\, 17 South Washington Street\, Easton\, MD\, 21601\, United States
ATTACH;FMTTYPE=image/jpeg:https://eastonedc.com/wp-content/uploads/2022/05/unnamed-2-1128x482.jpg
END:VEVENT
BEGIN:VEVENT
DTSTART;TZID=America/New_York:20220611T090000
DTEND;TZID=America/New_York:20220611T140000
DTSTAMP:20260424T112435
CREATED:20220602T193324Z
LAST-MODIFIED:20220602T193324Z
UID:4838-1654938000-1654956000@eastonedc.com
SUMMARY:Jaime Lee Hutchison Memorial Horse Show
DESCRIPTION:Positive Strides will host the Jaime Lee Hutchison Memorial Horse Show on Saturday\, June 11\, 2022\, starting at 9:00 a.m. at Timber Grove Farm. Riders will compete in an equitation class and jumping class. A recognition ceremony will be held late morning to early afternoon. The public is invited to attend and support our riders at no charge. Donations are appreciated. Food will be available for purchase on site. \n  \nThe series is held in loving memory of Jaime Lee Hutchison who tragically lost her battle with cancer in 2017. She was a long-time therapeutic rider at Timber Grove Farm\, home of Positive Strides.
URL:https://eastonedc.com/event/jaime-lee-hutchison-memorial-horse-show/
LOCATION:Timber Grove Farm\, 6292 Statum Road\, Preston\, MD\, 21117\, United States
ATTACH;FMTTYPE=image/jpeg:https://eastonedc.com/wp-content/uploads/2022/06/SpringHorseShow-PR-2378x1601.jpeg
END:VEVENT
BEGIN:VEVENT
DTSTART;TZID=America/New_York:20220611T100000
DTEND;TZID=America/New_York:20220611T140000
DTSTAMP:20260424T112435
CREATED:20220425T184113Z
LAST-MODIFIED:20220511T193234Z
UID:4641-1654941600-1654956000@eastonedc.com
SUMMARY:Chesapeake Children's Book Festival
DESCRIPTION:The 7th annual Chesapeake Children’s Book Festival (CCBF) will take place on Saturday\, June 11 from 10am to 2pm at the Talbot County Free Library Easton Branch. \n  \nThe theme this year is Oceans of Possibility! Author Carole Boston Weatherford will be delivering a keynote speech at 10:30 am and Author/illustrator Bryan Collier and will be delivering a second keynote speech at 11:30 am. The Easton High School Jazz Band will be performing. Thanks to lead sponsor Flying Cloud Booksellers\, a Bluepoint Hospitality property\, children ages 18 and under who sign up for the library’s Summer Reading Challenge will receive a voucher valued at $20 for a free book of their choice from Flying Cloud Booksellers while supplies last. The YMCA will also be providing a summer reading program prize of a six-month family membership for Easton YMCA along with swimming lessons. \n  \nOther authors attending CCBF include David Owen Bell\, Melanie Conklin\, Nancy Viau\, Diane Salerni\, Ginger Park\, Frances Park\, Joan Waites\, Michael Rex\, Lee Harper\, and Chesapeake Children’s Book Festival Co-Founder Timothy Young. \n 
URL:https://eastonedc.com/event/chesapeake-childrens-book-festival-2/
LOCATION:Talbot County Free Library\, 100 W Dover St\, Easton\, MD\, 21601\, United States
ATTACH;FMTTYPE=image/jpeg:https://eastonedc.com/wp-content/uploads/2022/04/276288368_5206834479347973_2910594884978038568_n-2048x1281.jpeg
END:VEVENT
END:VCALENDAR