BEGIN:VCALENDAR
VERSION:2.0
PRODID:-//Easton Economic Development Corporation - ECPv6.15.18//NONSGML v1.0//EN
CALSCALE:GREGORIAN
METHOD:PUBLISH
X-ORIGINAL-URL:https://eastonedc.com
X-WR-CALDESC:Events for Easton Economic Development Corporation
REFRESH-INTERVAL;VALUE=DURATION:PT1H
X-Robots-Tag:noindex
X-PUBLISHED-TTL:PT1H
BEGIN:VTIMEZONE
TZID:America/New_York
BEGIN:DAYLIGHT
TZOFFSETFROM:-0500
TZOFFSETTO:-0400
TZNAME:EDT
DTSTART:20210314T070000
END:DAYLIGHT
BEGIN:STANDARD
TZOFFSETFROM:-0400
TZOFFSETTO:-0500
TZNAME:EST
DTSTART:20211107T060000
END:STANDARD
BEGIN:DAYLIGHT
TZOFFSETFROM:-0500
TZOFFSETTO:-0400
TZNAME:EDT
DTSTART:20220313T070000
END:DAYLIGHT
BEGIN:STANDARD
TZOFFSETFROM:-0400
TZOFFSETTO:-0500
TZNAME:EST
DTSTART:20221106T060000
END:STANDARD
BEGIN:DAYLIGHT
TZOFFSETFROM:-0500
TZOFFSETTO:-0400
TZNAME:EDT
DTSTART:20230312T070000
END:DAYLIGHT
BEGIN:STANDARD
TZOFFSETFROM:-0400
TZOFFSETTO:-0500
TZNAME:EST
DTSTART:20231105T060000
END:STANDARD
END:VTIMEZONE
BEGIN:VEVENT
DTSTART;TZID=America/New_York:20220323T180000
DTEND;TZID=America/New_York:20220323T193000
DTSTAMP:20260425T001402
CREATED:20220303T224351Z
LAST-MODIFIED:20220303T224351Z
UID:4382-1648058400-1648063800@eastonedc.com
SUMMARY:For All Seasons presents Nataly Kogan
DESCRIPTION:At a time when stress and exhaustion are at an all-time high\, and we are in desperate need of a new path forward\, For All Seasons is pleased to bring you this special presentation. \nA leading expert on emotional fitness\, Nataly Kogan is a best-selling author on a mission to help millions of people struggle less and thrive more in work and life\, even during difficult times.  Nataly shares essential mindset shifts\, scientific research\, and tangible skills to help you realize your potential — with less stress and greater energy\, joy\, and sense of meaning! Viewing options include live-streaming and limited in-person seating at the Avalon Theatre.
URL:https://eastonedc.com/event/for-all-seasons-presents-nataly-kogan/
LOCATION:Avalon Theatre\, 40 E Dover Street\, Easton\, MD\, 21601\, United States
ATTACH;FMTTYPE=image/jpeg:https://eastonedc.com/wp-content/uploads/2022/03/Nataly-Kogan-500x419.jpeg
END:VEVENT
END:VCALENDAR