BEGIN:VCALENDAR
VERSION:2.0
PRODID:-//Easton Economic Development Corporation - ECPv6.15.18//NONSGML v1.0//EN
CALSCALE:GREGORIAN
METHOD:PUBLISH
X-WR-CALNAME:Easton Economic Development Corporation
X-ORIGINAL-URL:https://eastonedc.com
X-WR-CALDESC:Events for Easton Economic Development Corporation
REFRESH-INTERVAL;VALUE=DURATION:PT1H
X-Robots-Tag:noindex
X-PUBLISHED-TTL:PT1H
BEGIN:VTIMEZONE
TZID:America/New_York
BEGIN:DAYLIGHT
TZOFFSETFROM:-0500
TZOFFSETTO:-0400
TZNAME:EDT
DTSTART:20210314T070000
END:DAYLIGHT
BEGIN:STANDARD
TZOFFSETFROM:-0400
TZOFFSETTO:-0500
TZNAME:EST
DTSTART:20211107T060000
END:STANDARD
BEGIN:DAYLIGHT
TZOFFSETFROM:-0500
TZOFFSETTO:-0400
TZNAME:EDT
DTSTART:20220313T070000
END:DAYLIGHT
BEGIN:STANDARD
TZOFFSETFROM:-0400
TZOFFSETTO:-0500
TZNAME:EST
DTSTART:20221106T060000
END:STANDARD
BEGIN:DAYLIGHT
TZOFFSETFROM:-0500
TZOFFSETTO:-0400
TZNAME:EDT
DTSTART:20230312T070000
END:DAYLIGHT
BEGIN:STANDARD
TZOFFSETFROM:-0400
TZOFFSETTO:-0500
TZNAME:EST
DTSTART:20231105T060000
END:STANDARD
END:VTIMEZONE
BEGIN:VEVENT
DTSTART;TZID=America/New_York:20220310T190000
DTEND;TZID=America/New_York:20220310T210000
DTSTAMP:20260425T161427
CREATED:20220303T164847Z
LAST-MODIFIED:20220303T170812Z
UID:4370-1646938800-1646946000@eastonedc.com
SUMMARY:Miss Tess
DESCRIPTION:Defying genres while transcending eras and resisting clichés is what Miss Tess is all about. \nDrawing from jazz\, country\, blues and old-school rock and roll\, she has employed all of her influences and talents on a tour-de-force\, while cleverly taking standard perspectives and ideas\, like the definition of a love song\, to task. \n  \nHowever varied Tess’s music can be\, front and center sits her voice that has been described as “alternately seductive and sexy\, and a pure joy to listen to” (Pop Matters). Her music is further heightened by her partner\, Thomas Bryan Eaton\, who helps to shape the songs and arrangements with a deft touch on guitar & pedal steel.
URL:https://eastonedc.com/event/miss-tess/
LOCATION:Avalon Theatre\, 40 E Dover Street\, Easton\, MD\, 21601\, United States
ATTACH;FMTTYPE=image/jpeg:https://eastonedc.com/wp-content/uploads/2022/03/MissTess_Charlottesville_Concert-scaled-1-2500x1665.jpeg
ORGANIZER;CN="Avalon Foundation":MAILTO:boxoffice@avalonfoundation.org
END:VEVENT
END:VCALENDAR