BEGIN:VCALENDAR
VERSION:2.0
PRODID:-//Easton Economic Development Corporation - ECPv6.15.18//NONSGML v1.0//EN
CALSCALE:GREGORIAN
METHOD:PUBLISH
X-ORIGINAL-URL:https://eastonedc.com
X-WR-CALDESC:Events for Easton Economic Development Corporation
REFRESH-INTERVAL;VALUE=DURATION:PT1H
X-Robots-Tag:noindex
X-PUBLISHED-TTL:PT1H
BEGIN:VTIMEZONE
TZID:UTC
BEGIN:STANDARD
TZOFFSETFROM:+0000
TZOFFSETTO:+0000
TZNAME:UTC
DTSTART:20210101T000000
END:STANDARD
END:VTIMEZONE
BEGIN:VEVENT
DTSTART;TZID=UTC:20220218T160000
DTEND;TZID=UTC:20220218T210000
DTSTAMP:20260425T090100
CREATED:20211116T234737Z
LAST-MODIFIED:20220202T170920Z
UID:3888-1645200000-1645218000@eastonedc.com
SUMMARY:Chesapeake Fire & Ice
DESCRIPTION:Chesapeake Fire & Ice returns in 2022\, presented by Preston Automotive Group and Safehouse! Coming to Easton\, Maryland over Presidents Day Weekend\, February 18-20\, 2022. Enjoy ice sculpture displays throughout beautiful downtown Easton\, ice carving demonstrations\, the Friday night downtown kick-off party\, and MUCH MORE!\n\nTo learn about sponsorship or volunteer opportunities\, please contact Holly DeKarske holly@EastonEDC.com. Please follow\, like and share this event and head to https://eastonedc.com/chesapeake-fire-ice/ to learn more!
URL:https://eastonedc.com/event/chesapeake-fire-ice/
CATEGORIES:Downtown Event
ATTACH;FMTTYPE=image/png:https://eastonedc.com/wp-content/uploads/2022/01/Chesapeake-fire-ice-4.png
END:VEVENT
END:VCALENDAR