BEGIN:VCALENDAR
VERSION:2.0
PRODID:-//Easton Economic Development Corporation - ECPv6.15.18//NONSGML v1.0//EN
CALSCALE:GREGORIAN
METHOD:PUBLISH
X-WR-CALNAME:Easton Economic Development Corporation
X-ORIGINAL-URL:https://eastonedc.com
X-WR-CALDESC:Events for Easton Economic Development Corporation
REFRESH-INTERVAL;VALUE=DURATION:PT1H
X-Robots-Tag:noindex
X-PUBLISHED-TTL:PT1H
BEGIN:VTIMEZONE
TZID:America/New_York
BEGIN:DAYLIGHT
TZOFFSETFROM:-0500
TZOFFSETTO:-0400
TZNAME:EDT
DTSTART:20210314T070000
END:DAYLIGHT
BEGIN:STANDARD
TZOFFSETFROM:-0400
TZOFFSETTO:-0500
TZNAME:EST
DTSTART:20211107T060000
END:STANDARD
BEGIN:DAYLIGHT
TZOFFSETFROM:-0500
TZOFFSETTO:-0400
TZNAME:EDT
DTSTART:20220313T070000
END:DAYLIGHT
BEGIN:STANDARD
TZOFFSETFROM:-0400
TZOFFSETTO:-0500
TZNAME:EST
DTSTART:20221106T060000
END:STANDARD
BEGIN:DAYLIGHT
TZOFFSETFROM:-0500
TZOFFSETTO:-0400
TZNAME:EDT
DTSTART:20230312T070000
END:DAYLIGHT
BEGIN:STANDARD
TZOFFSETFROM:-0400
TZOFFSETTO:-0500
TZNAME:EST
DTSTART:20231105T060000
END:STANDARD
END:VTIMEZONE
BEGIN:VEVENT
DTSTART;TZID=America/New_York:20220211T190000
DTEND;TZID=America/New_York:20220211T210000
DTSTAMP:20260424T210759
CREATED:20211220T175052Z
LAST-MODIFIED:20220907T181555Z
UID:4049-1644606000-1644613200@eastonedc.com
SUMMARY:Peter Fogel's "Til Death Do Us Part...You First!"
DESCRIPTION:Since 2013\, Peter Fogel has been the national touring star of the hit comedy\, “My Mother’s Italian\, My Father’s Jewish & I’m in Therapy!” And now he brings you his hilarious autobiographical tale\, “Til Death Do Us Part… You First!” (Directed by Academy Award-nominee Chazz Palminteri) \nEternal bachelor Peter Fogel has major commitment issues as the love of his life has just broken up with him on Valentine’s Day. He senses his own mortality and after much soul searching\, he decides to revisit the scene of all his romantic disasters. \nYoung or old\, divorced or married… if you’ve ever been single (and that’s everyone) and want to experience (again) the feeling of finding that Special Person to spend the rest of your life with — then you’ll want to fasten your seat belt for 75 minutes of non-stop laughs with Peter Fogel’s “Til Death Do Us Part … You First!”
URL:https://eastonedc.com/event/peter-fogels-til-death-do-us-part-you-first/
LOCATION:Avalon Theatre\, 40 E Dover Street\, Easton\, MD\, 21601\, United States
ATTACH;FMTTYPE=image/jpeg:https://eastonedc.com/wp-content/uploads/2021/12/maxresdefault.jpeg
ORGANIZER;CN="Avalon Foundation":MAILTO:boxoffice@avalonfoundation.org
END:VEVENT
END:VCALENDAR