BEGIN:VCALENDAR
VERSION:2.0
PRODID:-//Easton Economic Development Corporation - ECPv6.15.18//NONSGML v1.0//EN
CALSCALE:GREGORIAN
METHOD:PUBLISH
X-WR-CALNAME:Easton Economic Development Corporation
X-ORIGINAL-URL:https://eastonedc.com
X-WR-CALDESC:Events for Easton Economic Development Corporation
REFRESH-INTERVAL;VALUE=DURATION:PT1H
X-Robots-Tag:noindex
X-PUBLISHED-TTL:PT1H
BEGIN:VTIMEZONE
TZID:America/New_York
BEGIN:DAYLIGHT
TZOFFSETFROM:-0500
TZOFFSETTO:-0400
TZNAME:EDT
DTSTART:20210314T070000
END:DAYLIGHT
BEGIN:STANDARD
TZOFFSETFROM:-0400
TZOFFSETTO:-0500
TZNAME:EST
DTSTART:20211107T060000
END:STANDARD
BEGIN:DAYLIGHT
TZOFFSETFROM:-0500
TZOFFSETTO:-0400
TZNAME:EDT
DTSTART:20220313T070000
END:DAYLIGHT
BEGIN:STANDARD
TZOFFSETFROM:-0400
TZOFFSETTO:-0500
TZNAME:EST
DTSTART:20221106T060000
END:STANDARD
BEGIN:DAYLIGHT
TZOFFSETFROM:-0500
TZOFFSETTO:-0400
TZNAME:EDT
DTSTART:20230312T070000
END:DAYLIGHT
BEGIN:STANDARD
TZOFFSETFROM:-0400
TZOFFSETTO:-0500
TZNAME:EST
DTSTART:20231105T060000
END:STANDARD
END:VTIMEZONE
BEGIN:VEVENT
DTSTART;TZID=America/New_York:20220123T190000
DTEND;TZID=America/New_York:20220123T190000
DTSTAMP:20260425T062144
CREATED:20211220T164523Z
LAST-MODIFIED:20211220T164523Z
UID:4034-1642964400-1642964400@eastonedc.com
SUMMARY:Keb' Mo'
DESCRIPTION:Fresh off his recent Grammy-winning release “Oklahoma\,” the legendary Keb’ Mo’ returns to the Avalon stage! \nOver his quarter-century as a recording artist\, Keb’ has cultivated a reputation as a modern master of American roots music through the understated excellence of his live and studio performances. \nThe charismatic singer/guitarist/ songwriter and five-time Grammy Award-winner has consistently made music that reflects his own passions and interests. In the process\, he’s established his ability to draw upon his bottomless roots-music expertise to make deeply expressive\, highly personal music. \nAlong with his original material\, Keb’ has collaborated with a wide constellation of artists\, including Bonnie Raitt\, Taj Mahal\, Vince Gill\, Amy Grant\, Jackson Browne\, Natalie Cole\, and Lyle Lovett\, among so many more. \nBut it’s his stellar guitar skills that are what distinguishes Keb’ from the rest. His guitar playing has garnered him two invites to Eric Clapton’s acclaimed Crossroads Festival and has even inspired leading instrument makers\, Gibson Brands\, to issue the Keb’ Mo’ Signature Bluesmaster and Bluesmaster Royale acoustic guitars.
URL:https://eastonedc.com/event/keb-mo/
LOCATION:Avalon Theatre\, 40 E Dover Street\, Easton\, MD\, 21601\, United States
ATTACH;FMTTYPE=image/jpeg:https://eastonedc.com/wp-content/uploads/2021/12/81rJD4cqz4L._SL1200_.jpg
ORGANIZER;CN="Avalon Foundation":MAILTO:boxoffice@avalonfoundation.org
END:VEVENT
END:VCALENDAR