BEGIN:VCALENDAR
VERSION:2.0
PRODID:-//Easton Economic Development Corporation - ECPv6.15.18//NONSGML v1.0//EN
CALSCALE:GREGORIAN
METHOD:PUBLISH
X-ORIGINAL-URL:https://eastonedc.com
X-WR-CALDESC:Events for Easton Economic Development Corporation
REFRESH-INTERVAL;VALUE=DURATION:PT1H
X-Robots-Tag:noindex
X-PUBLISHED-TTL:PT1H
BEGIN:VTIMEZONE
TZID:America/New_York
BEGIN:DAYLIGHT
TZOFFSETFROM:-0500
TZOFFSETTO:-0400
TZNAME:EDT
DTSTART:20210314T070000
END:DAYLIGHT
BEGIN:STANDARD
TZOFFSETFROM:-0400
TZOFFSETTO:-0500
TZNAME:EST
DTSTART:20211107T060000
END:STANDARD
BEGIN:DAYLIGHT
TZOFFSETFROM:-0500
TZOFFSETTO:-0400
TZNAME:EDT
DTSTART:20220313T070000
END:DAYLIGHT
BEGIN:STANDARD
TZOFFSETFROM:-0400
TZOFFSETTO:-0500
TZNAME:EST
DTSTART:20221106T060000
END:STANDARD
BEGIN:DAYLIGHT
TZOFFSETFROM:-0500
TZOFFSETTO:-0400
TZNAME:EDT
DTSTART:20230312T070000
END:DAYLIGHT
BEGIN:STANDARD
TZOFFSETFROM:-0400
TZOFFSETTO:-0500
TZNAME:EST
DTSTART:20231105T060000
END:STANDARD
END:VTIMEZONE
BEGIN:VEVENT
DTSTART;TZID=America/New_York:20220122T190000
DTEND;TZID=America/New_York:20220122T190000
DTSTAMP:20260425T062505
CREATED:20211220T162342Z
LAST-MODIFIED:20211220T162342Z
UID:4028-1642878000-1642878000@eastonedc.com
SUMMARY:Drew Landry
DESCRIPTION:Drew Landry\, an LA-based stand-up comedian and writer from Baltimore\, started doing comedy when he was 13\, and went on tour with Carlos Mencia (Comedy Central’s “Mind Of Mencia”) just two weeks after graduating high school. \nIn addition to his stand-up\, Landry writes satirical articles for the popular hip-hop site DJBooth\, and has previously written for the college website Total Sorority Move. \nRecently named one of the official top 50 humor writers on Medium\, Landry’s articles on Medium have received a total of over a million views\, including his piece “I Have A Theory That Donald Glover and Childish Gambino Are Secretly The Same Person\,” which went viral.
URL:https://eastonedc.com/event/drew-landry/
LOCATION:Avalon Theatre\, 40 E Dover Street\, Easton\, MD\, 21601\, United States
ATTACH;FMTTYPE=image/jpeg:https://eastonedc.com/wp-content/uploads/2021/12/DrewLandry.jpeg
ORGANIZER;CN="Avalon Foundation":MAILTO:boxoffice@avalonfoundation.org
END:VEVENT
END:VCALENDAR