BEGIN:VCALENDAR
VERSION:2.0
PRODID:-//Easton Economic Development Corporation - ECPv6.15.18//NONSGML v1.0//EN
CALSCALE:GREGORIAN
METHOD:PUBLISH
X-ORIGINAL-URL:https://eastonedc.com
X-WR-CALDESC:Events for Easton Economic Development Corporation
REFRESH-INTERVAL;VALUE=DURATION:PT1H
X-Robots-Tag:noindex
X-PUBLISHED-TTL:PT1H
BEGIN:VTIMEZONE
TZID:America/New_York
BEGIN:DAYLIGHT
TZOFFSETFROM:-0500
TZOFFSETTO:-0400
TZNAME:EDT
DTSTART:20210314T070000
END:DAYLIGHT
BEGIN:STANDARD
TZOFFSETFROM:-0400
TZOFFSETTO:-0500
TZNAME:EST
DTSTART:20211107T060000
END:STANDARD
BEGIN:DAYLIGHT
TZOFFSETFROM:-0500
TZOFFSETTO:-0400
TZNAME:EDT
DTSTART:20220313T070000
END:DAYLIGHT
BEGIN:STANDARD
TZOFFSETFROM:-0400
TZOFFSETTO:-0500
TZNAME:EST
DTSTART:20221106T060000
END:STANDARD
BEGIN:DAYLIGHT
TZOFFSETFROM:-0500
TZOFFSETTO:-0400
TZNAME:EDT
DTSTART:20230312T070000
END:DAYLIGHT
BEGIN:STANDARD
TZOFFSETFROM:-0400
TZOFFSETTO:-0500
TZNAME:EST
DTSTART:20231105T060000
END:STANDARD
END:VTIMEZONE
BEGIN:VEVENT
DTSTART;TZID=America/New_York:20220108T190000
DTEND;TZID=America/New_York:20220108T190000
DTSTAMP:20260425T062600
CREATED:20211220T162054Z
LAST-MODIFIED:20211220T162054Z
UID:4025-1641668400-1641668400@eastonedc.com
SUMMARY:Adam Ezra Group
DESCRIPTION:Working outside the confines of the traditional music industry\, Ezra and his band\, the Adam Ezra Group\, built a fan community through sheer grit and determination\, regularly performing hundreds of shows a year for the past two decades without any major label or mainstream radio support. \nFusing folk intimacy and rock energy with soul power and pop charm\, the band first emerged from Boston in the early 2000s and quickly garnered widespread acclaim for their bold\, insightful songwriting and interactive\, euphoric performances. \nFrom hole-in-the-wall bars and house concerts to sold-out headline shows and dates with the likes of Little Big Town\, The Wallflowers\, Gavin DeGraw\, Train\, and The Wailers\, Ezra and his bandmates treated every single gig like their last\, attracting a die-hard following that believed not just in the music\, but in their commitment to activism and social change as well.
URL:https://eastonedc.com/event/adam-ezra-group/
LOCATION:Avalon Theatre\, 40 E Dover Street\, Easton\, MD\, 21601\, United States
ATTACH;FMTTYPE=image/jpeg:https://eastonedc.com/wp-content/uploads/2021/12/AEG_2021_400.jpeg
ORGANIZER;CN="Avalon Foundation":MAILTO:boxoffice@avalonfoundation.org
END:VEVENT
END:VCALENDAR