BEGIN:VCALENDAR
VERSION:2.0
PRODID:-//Easton Economic Development Corporation - ECPv6.15.18//NONSGML v1.0//EN
CALSCALE:GREGORIAN
METHOD:PUBLISH
X-WR-CALNAME:Easton Economic Development Corporation
X-ORIGINAL-URL:https://eastonedc.com
X-WR-CALDESC:Events for Easton Economic Development Corporation
REFRESH-INTERVAL;VALUE=DURATION:PT1H
X-Robots-Tag:noindex
X-PUBLISHED-TTL:PT1H
BEGIN:VTIMEZONE
TZID:UTC
BEGIN:STANDARD
TZOFFSETFROM:+0000
TZOFFSETTO:+0000
TZNAME:UTC
DTSTART:20200101T000000
END:STANDARD
END:VTIMEZONE
BEGIN:VEVENT
DTSTART;TZID=UTC:20211127T100000
DTEND;TZID=UTC:20211127T200000
DTSTAMP:20260425T184451
CREATED:20210927T185041Z
LAST-MODIFIED:20210927T185041Z
UID:3679-1638007200-1638043200@eastonedc.com
SUMMARY:Festival of Trees
DESCRIPTION:The annual Christmas Festival of Trees raises funds for Friends of Hospice to carry out its mission to benefit Talbot Hospice. Since 1985\, Friends of Hospice has donated over 3 million dollars to benefit terminally ill people living in Talbot County. Beautifully decorated Christmas trees with the Theme “A Winter Wonderland” will be displayed in historic downtown Easton’s Tidewater Inn and are either sponsored or are for sale over Thanksgiving Weekend from November 27-30. The Festival will also include a fun outside holiday event on Saturday evening called “Carols by Candlelight.” \n\n\nMore details can be found at www.festival-of-trees.org.
URL:https://eastonedc.com/event/festival-of-trees/
LOCATION:Tidewater Inn\, 101 E Dover Street\, Easton\, MD\, 21601\, United States
ATTACH;FMTTYPE=image/jpeg:https://eastonedc.com/wp-content/uploads/2021/09/Web_A7R6073_Edit.jpeg
END:VEVENT
END:VCALENDAR