BEGIN:VCALENDAR
VERSION:2.0
PRODID:-//Easton Economic Development Corporation - ECPv6.15.18//NONSGML v1.0//EN
CALSCALE:GREGORIAN
METHOD:PUBLISH
X-WR-CALNAME:Easton Economic Development Corporation
X-ORIGINAL-URL:https://eastonedc.com
X-WR-CALDESC:Events for Easton Economic Development Corporation
REFRESH-INTERVAL;VALUE=DURATION:PT1H
X-Robots-Tag:noindex
X-PUBLISHED-TTL:PT1H
BEGIN:VTIMEZONE
TZID:UTC
BEGIN:STANDARD
TZOFFSETFROM:+0000
TZOFFSETTO:+0000
TZNAME:UTC
DTSTART:20200101T000000
END:STANDARD
END:VTIMEZONE
BEGIN:VEVENT
DTSTART;TZID=UTC:20211126T100000
DTEND;TZID=UTC:20211126T163000
DTSTAMP:20260425T182533
CREATED:20211109T005907Z
LAST-MODIFIED:20211109T005907Z
UID:3868-1637920800-1637944200@eastonedc.com
SUMMARY:Candy Land Adventure Fundraiser
DESCRIPTION:Talbot County Women’s Club is hosting an Outdoor Life-Sized Candy Land Adventure fundraiser along with holiday crafts for kids\, meet Queen Frostine\, raffles\, and historic holiday tours! The classic board game\, Candy Land\, will be brought to life in downtown Easton offering all ages a chance to navigate thru a life-size\, fun-filled journey playing games in magical areas such as the lollypop woods\, peppermint forest\, and gumdrop mountain. Travel past the gingerbread house and meet Queen Frostine.  Participants gather winning tickets to turn in for special prizes. The fun continues inside the Women’s Club with holiday crafts for kids\, raffles\, and historic holiday tours\, and more.
URL:https://eastonedc.com/event/candy-land-adventure-fundraiser/
LOCATION:Talbot County Women’s Club\, 18 Talbot Lane Easton\, Easton\, MD\, 21601\, United States
ATTACH;FMTTYPE=image/jpeg:https://eastonedc.com/wp-content/uploads/2021/11/TCWC-Candy-Land-Event-PR.jpg
END:VEVENT
END:VCALENDAR