BEGIN:VCALENDAR
VERSION:2.0
PRODID:-//Easton Economic Development Corporation - ECPv6.15.18//NONSGML v1.0//EN
CALSCALE:GREGORIAN
METHOD:PUBLISH
X-ORIGINAL-URL:https://eastonedc.com
X-WR-CALDESC:Events for Easton Economic Development Corporation
REFRESH-INTERVAL;VALUE=DURATION:PT1H
X-Robots-Tag:noindex
X-PUBLISHED-TTL:PT1H
BEGIN:VTIMEZONE
TZID:UTC
BEGIN:STANDARD
TZOFFSETFROM:+0000
TZOFFSETTO:+0000
TZNAME:UTC
DTSTART:20200101T000000
END:STANDARD
END:VTIMEZONE
BEGIN:VEVENT
DTSTART;TZID=UTC:20211112T080000
DTEND;TZID=UTC:20211114T170000
DTSTAMP:20260425T192854
CREATED:20210119T015012Z
LAST-MODIFIED:20210128T221707Z
UID:2416-1636704000-1636909200@eastonedc.com
SUMMARY:Waterfowl Festival
DESCRIPTION:Join us for Easton’s Homecoming! The 50th Annual Waterfowl Festival will take place November 12 – 14\, 2021. This wildlife art show\, sportsman’s expo and small-town festival celebrates all things “Eastern Shore” and showcases Easton in its autumn glory. Meet the country’s finest wildlife artists: painters\, sculptors\, carvers and photographers\, and see their work in galleries spread across historic downtown Easton. \nThe Festival kicks off with Opening Ceremonies and the Premiere Night Party! \nFor more ticket prices and more information\, to volunteer\, or donate\, visit www.waterfowlfestival.org or call 410-822-4567.
URL:https://eastonedc.com/event/waterfowl-festival/
LOCATION:Downtown Easton\, 11 S Harrison\, Easton\, MD\, 21601\, United States
CATEGORIES:Downtown Event
ATTACH;FMTTYPE=image/jpeg:https://eastonedc.com/wp-content/uploads/2021/01/ScreetScene.jpg
ORGANIZER;CN="Waterfowl Chesapeake":MAILTO:info@waterfowlchesapeake.org
END:VEVENT
BEGIN:VEVENT
DTSTART;TZID=UTC:20211112T190000
DTEND;TZID=UTC:20211112T220000
DTSTAMP:20260425T192854
CREATED:20211105T201905Z
LAST-MODIFIED:20211105T214952Z
UID:3847-1636743600-1636754400@eastonedc.com
SUMMARY:Jamie McLean Band - Avalon Theatre
DESCRIPTION:Jamie McLean Band creates a musical gumbo that incorporates New Orleans soul\, middle Americana roots\, Delta blues and New York City swagger. McLean’s fiery guitar has joined the ranks of Derek Trucks\, Gregg Allman\, Taj Mahal\, Aaron Neville\, Dr. John and more on stages from Madison Square Garden to Japan’s Fuji Rock. His blue eyed southern soul vocals ooze real emotion. And his top-line songwriting chops have crafted profound\, honest\, and heartfelt songs that will keep you singing along\, dancing along\, and feeling like the song was written about you.                                      
URL:https://eastonedc.com/event/jamie-mclean-band-2/
LOCATION:Avalon Theatre\, 40 E Dover Street\, Easton\, MD\, 21601\, United States
ATTACH;FMTTYPE=image/jpeg:https://eastonedc.com/wp-content/uploads/2021/11/29666470297_d0efb398ca_z.jpeg
END:VEVENT
END:VCALENDAR